BEGIN:VCALENDAR
VERSION:2.0
PRODID:-//wp-events-plugin.com//7.2.3.1//EN
BEGIN:VEVENT
UID:6277@kulturverein-schneverdingen.de
DTSTART:20201128T170000Z
DTEND:20201128T200000Z
DTSTAMP:20201030T092905Z
URL:https://kulturverein-schneverdingen.de/events/herbstlesung-des-literat
 entreffs-2/
SUMMARY:***Fällt leider aus!*** Herbstlesung des Literatentreffs "Märchen
 haft - Es war einmal"
DESCRIPTION:Herbstlesung des Literatentreffs des Kulturvereins Schneverding
 en e.V. \n\n„Märchenhaft - Es war einmal“  ist das Motto unserer He
 rbstlesung für das Jahr 2020.\nWieder werden wir Ihnen etwas Außergewöh
 nliches bieten.\nWir hoffen auf einen schönen Abend und freuen uns auf Si
 e!\nMusikalisch umrahmt wird der Abend von Jochen Bruns am Piano.\n\nKGS\,
  Am Timmerahde\, 29640 Schneverdingen\nWann: 28. November 2020\, 19:00 Uhr
 \nVorverkauf  4\,00  Euro   Abendkasse  6\,00 Euro\n\nIm Literatentref
 f des Kulturverein Schneverdingen e. V. trifft sich regelmäßig eine Grup
 pe von kreativen Leuten\, die Freude daran haben\, selbst zu schreiben und
  sich damit anderen mitzuteilen. Dabei sind wir jederzeit offen für Inspi
 rationen und Anregungen\, die einem überall begegnen können\, probieren 
 auch mal neue Wege des Schreibens\, diskutieren und streiten im positiven 
 Sinne über literarische Werke (am liebsten über unsere eigenen)\, erlebe
 n unsere Unterschiede als Bereicherung und haben somit eine Menge Spaß an
  unserem Hobby.\n\nGemeinsame Veranstaltung mit der KGS Schneverdingen\n\n
 &nbsp\;
ATTACH;FMTTYPE=image/jpeg:https://kulturverein-schneverdingen.de/wp-conten
 t/uploads/2019/01/Literaten-scaled.jpg
CATEGORIES:Aktuell,Archiv
LOCATION:Forum der KGS\, Am Timmerahde 28-30\, Schneverdingen\, 29640\, Deu
 tschland
GEO:53.1211439;9.800073600000019
X-APPLE-STRUCTURED-LOCATION;VALUE=URI;X-ADDRESS=Am Timmerahde 28-30\, Schne
 verdingen\, 29640\, Deutschland;X-APPLE-RADIUS=100;X-TITLE=Forum der KGS:g
 eo:53.1211439,9.800073600000019
END:VEVENT
END:VCALENDAR