BEGIN:VCALENDAR
VERSION:2.0
PRODID:-//wp-events-plugin.com//7.2.3.1//EN
BEGIN:VEVENT
UID:6184@kulturverein-schneverdingen.de
DTSTART:20210523T090000Z
DTEND:20210523T120000Z
DTSTAMP:20210204T133234Z
URL:https://kulturverein-schneverdingen.de/events/fruehschoppen-rockabilly
 -mit-the-white-lines/
SUMMARY:***Fällt aus!*** Frühschoppen: Rockabilly mit "The White Lines"
DESCRIPTION:The White Lines - Rock ´n´ Roll will never Stop!\nDie “Whit
 e Lines” haben sich im Jahre 1988 formiert und rocken und rollen\nseitde
 m durch die Republik und das benachbarte Ausland wie Dänemark und\ndie Ni
 ederlande.\nIn klassischer Besetzung mit Lead- und Rhythmusgitarre\, Kontr
 abass und\nSchlagzeug werden die Songs von Elvis Presley\, Buddy Holly\, C
 arl Perkins und Co.\nzelebriert und nicht nur einfach nachgespielt. Dadurc
 h wird den zeitlosen\nKlassikern neues Leben eingehaucht und der bandtypis
 che Stempel\naufgedrückt.\nDieses findet bei Jung und Alt regen Zuspruch.
  Wichtig war und ist es der\nBand\, ihre eigene musikalische Identität zu
  entwickeln. Eben diese drückt man\nmit einer Vielzahl von Eigenkompositi
 onen im Repertoire aus. Das 2003\nveröffentlichte Album „Rockabilly Fev
 er“ zum Beispiel enthält nur\nselbstgeschriebene Songs\, während das A
 lbum „Rockabilly Memories – 20\nRockin` Years“ eine Zusammenstellung
  ist von Klassikern aus dem\nLive –Programm und eigenen Songs\, die zu D
 auerbrennern avanciert sind.\nVon 1993 bis 2017 veröffentlichte die Band 
 insgesamt 13 Produktionen\, alle\ndavon selbst aufgenommen und produziert 
 im hauseigenen Recording – Studio\n„Laura Records“.\nDie Musik wird 
 mit Elan\, Spielfreude und Spaß an der Sache dargeboten.\nWeitere Informa
 tionen hierzu gibt es unter:\nwww.thewhitelines.de\nBernd Tesch (Acoustic 
 Bass &amp\; Vocals)\nCarsten Tesch (Leadguitar &amp\; Backingvocals)\nOlaf
  Tesch (Rhythmguitar)\nMichael Helle (Drums)\nEintritt frei\nGemeinsame Ve
 ranstaltung mit dem La Habana.
ATTACH;FMTTYPE=image/jpeg:https://kulturverein-schneverdingen.de/wp-conten
 t/uploads/2020/02/image0-1.jpeg
CATEGORIES:Aktuell,Archiv,Eintritt frei,Konzert,Mit der Familie,Mit
 mehreren Leuten/wenn Besuch kommt,Tagsüber
LOCATION:La Habana\, Rathauspassage 2\, Schneverdingen\, 29640\, Deutschlan
 d
GEO:53.1162319;9.792343599999981
X-APPLE-STRUCTURED-LOCATION;VALUE=URI;X-ADDRESS=Rathauspassage 2\, Schnever
 dingen\, 29640\, Deutschland;X-APPLE-RADIUS=100;X-TITLE=La Habana:geo:53.1
 162319,9.792343599999981
END:VEVENT
END:VCALENDAR