BEGIN:VCALENDAR
VERSION:2.0
PRODID:-//wp-events-plugin.com//7.2.3.1//EN
BEGIN:VEVENT
UID:7640@kulturverein-schneverdingen.de
DTSTART:20240711T140000Z
DTEND:20240711T153000Z
DTSTAMP:20240321T145216Z
URL:https://kulturverein-schneverdingen.de/events/ferienpassaktion-jonglie
 r-workshop-7/
SUMMARY:Ferienpassaktion: "Jonglier-Workshop"
DESCRIPTION:Jonglier-Workshop für Kinder\n\nLust auf Zirkusakrobatik?\nAn 
 diesem Tag bringt Alex Riekens Euch Basiswissen zur Jonglage mit den versc
 hiedensten Materialien bei. Ob mit dem Diabolo\, Tüchern\, Bällen\, Ring
 en\, Keulen oder DevilSticks –\nAlex hat seine Fähigkeiten während sei
 nes Volontariats an einer Zirkusschule in Nicaragua vertieft und möchte s
 ie Euch gerne vermitteln.\nVielleicht wird die Jonglage auch zu Eurem neue
 n Hobby?\n\nTermine: 11.07. + 25.07.2024\nUhrzeit: 16 – 17.30 Uhr\nHöch
 stteilnehmerzahl: 5\nJugendliche im Alter von 10 bis 14 Jahren\nTreffpunkt
 : KulturStellmacherei\, Oststr. 31\nMitzubringen: Jongliermaterial (nur we
 nn vorhanden)\n\nAnmeldungen über Stadtjugendring e.V.\nhttps://sjr-schne
 verdingen.feripro.de/\n\n\nEs handelt sich um eine von fünf Ferienpassakt
 ionen\, mit denen sich der Kulturverein Schneverdingen in diesem Sommer be
 teiligt.
ATTACH;FMTTYPE=image/jpeg:https://kulturverein-schneverdingen.de/wp-conten
 t/uploads/2020/02/Alex-Jonglage1-scaled.jpg
CATEGORIES:Aktuell,Anlass/Voraussetzung,Archiv,Eintritt frei,Kommende
 Veranstaltungen,Sonstiges,Tageszeit,Tagsüber,Veranstaltungsart
LOCATION:Kulturhaus "Alte Schlachterei"\, Am Markt 2 \, Schneverdingen\, 29
 640\, Deutschland
GEO:53.115125;9.791724
X-APPLE-STRUCTURED-LOCATION;VALUE=URI;X-ADDRESS=Am Markt 2 \, Schneverdinge
 n\, 29640\, Deutschland;X-APPLE-RADIUS=100;X-TITLE=Kulturhaus \"Alte Schla
 chterei\":geo:53.115125,9.791724
END:VEVENT
END:VCALENDAR