BEGIN:VCALENDAR
VERSION:2.0
PRODID:-//wp-events-plugin.com//7.2.3.1//EN
BEGIN:VEVENT
UID:6265@kulturverein-schneverdingen.de
DTSTART:20200730T140000Z
DTEND:20200730T160000Z
DTSTAMP:20200430T163903Z
URL:https://kulturverein-schneverdingen.de/events/ferienpassaktion-jonglie
 r-workshop-2/
SUMMARY:***Fällt leider aus!*** Ferienpassaktion: "Jonglier-Workshop"
DESCRIPTION:Jonglier-Workshop für Kinder\n\nLust auf Zirkusakrobatik?\nAn 
 diesem Tag bringt Alex Riekens Euch Basiswissen zur Jonglage mit den versc
 hiedensten Materialien bei. Ob mit dem Diabolo\, Tüchern\, Bällen\, Ring
 en\, Keulen oder DevilSticks –\nAlex hat seine Fähigkeiten während sei
 nes Volontariats an einer Zirkusschule in Nicaragua vertieft und möchte s
 ie Euch gerne vermitteln.\nVielleicht wird die Jonglage auch zu Eurem neue
 n Hobby?\n\n\n\n4 Termine: 23.07.+30.07.+06.08.+13.08.2020\nUhrzeit: 16 
 – 18 Uhr\nHöchstteilnehmerzahl: 10\nJugendliche im Alter von 8 bis 14 J
 ahren\nTreffpunkt: KulturStellmacherei\, Oststr. 31\nMitzubringen: Jonglie
 rmaterial (nur wenn vorhanden)\n\nAnmeldungen über Stadtjugendring e.V.\n
 \nEs handelt sich um eine von sechs Ferienpassaktionen\, mit denen sich de
 r Kulturverein Schneverdingen in diesem Sommer beteiligt.
ATTACH;FMTTYPE=image/jpeg:https://kulturverein-schneverdingen.de/wp-conten
 t/uploads/2020/02/Alex-Jonglage1-scaled.jpg
CATEGORIES:Aktuell,Archiv
LOCATION:Kulturhaus "Alte Schlachterei"\, Am Markt 2 \, Schneverdingen\, 29
 640\, Deutschland
GEO:53.115125;9.791724
X-APPLE-STRUCTURED-LOCATION;VALUE=URI;X-ADDRESS=Am Markt 2 \, Schneverdinge
 n\, 29640\, Deutschland;X-APPLE-RADIUS=100;X-TITLE=Kulturhaus \"Alte Schla
 chterei\":geo:53.115125,9.791724
END:VEVENT
END:VCALENDAR