BEGIN:VCALENDAR
VERSION:2.0
PRODID:-//wp-events-plugin.com//7.2.3.1//EN
BEGIN:VEVENT
UID:6453@kulturverein-schneverdingen.de
DTSTART:20211023T100000Z
DTEND:20211023T160000Z
DTSTAMP:20240121T074551Z
URL:https://kulturverein-schneverdingen.de/events/ein-bunter-tag-mit-jeder
 -menge-kunst-und-kultur/
SUMMARY:Ein bunter Tag mit jeder Menge Kunst und Kultur
DESCRIPTION:Wir möchten an diesem Tag Musik\, Poetry\, Kunst usw. präsent
 ieren und alle Schneverdinger*innen zu einem bunten kulturellen Programm a
 uf das Gelände des Schneverdinger Theeshofes einladen. Wir nutzen diesen 
 Tag um Sie über den aktuellen Planungsstand betreffend des entstehenden K
 ulturhauses „Alte Schlachterei“ zu informieren.\nDas Programm wird noc
 h erarbeitet. Bitte entnehmen Sie dieses der örtlichen Presse und zeitnah
  unserer Homepage www.kulturverein-schneverdingen.de\nEintritt frei
ATTACH;FMTTYPE=image/jpeg:https://kulturverein-schneverdingen.de/wp-conten
 t/uploads/2019/02/Kulturverein-Logo_klein.jpg
CATEGORIES:Aktuell,Anlass/Voraussetzung,Archiv,Barrierefrei,Begegnungen/zu
 sammen sein,Bei Regenwetter,Eintritt frei,Kommende
 Veranstaltungen,Konzert,Kunst,Lesung/Literatur,Mit der Familie,Mit
 mehreren Leuten/wenn Besuch kommt,Open
 Air,Sonstiges,Soziokultur,Tageszeit,Tagsüber,Theater,Veranstaltungsart
LOCATION:Theeshof\, Hansahlener Dorfstraße 16\, Schneverdingen\, 29640\, D
 eutschland
GEO:53.12992999999999;9.786280000000033
X-APPLE-STRUCTURED-LOCATION;VALUE=URI;X-ADDRESS=Hansahlener Dorfstraße 16\
 , Schneverdingen\, 29640\, Deutschland;X-APPLE-RADIUS=100;X-TITLE=Theeshof
 :geo:53.12992999999999,9.786280000000033
END:VEVENT
END:VCALENDAR