BEGIN:VCALENDAR
VERSION:2.0
PRODID:-//wp-events-plugin.com//7.2.3.1//EN
BEGIN:VEVENT
UID:7169@kulturverein-schneverdingen.de
DTSTART:20240315T150000Z
DTEND:20240315T213000Z
DTSTAMP:20240129T161331Z
URL:https://kulturverein-schneverdingen.de/events/dinner-in-the-dark/
SUMMARY:Inklusive Fahrt nach Hamburg: Dinner in the dark
DESCRIPTION:\n\n"Ich schmecke was\, was Du nicht siehst"\n\n„Essen im Dun
 keln“ ist eine außergewöhnliche Erfahrung\, die voll und ganz aufs Seh
 en verzichtet – und dadurch andere Sinne wie Riechen\, Fühlen und vor a
 llem Schmecken noch intensiver anregt.\n\nDinner in the Dark bringt blinde
  und sehende Menschen näher\, baut Barrieren ab und eröffnet dem sehende
 n Publikum einen völlig neuen Zugang zu Getränken und Speisen.Zum Start 
 des Abends gibt es einen kleinen Aperitif im hellen Foyer des Dialoghauses
 .\nDann geht es in die Dunkelheit.\nIhr werdet von Euren Guides an Euren T
 isch im DINNER IN THE DARK geführt. Ihnen könnt Ihr voll und ganz vertra
 uen\, denn sie wissen aufgrund ihrer eigenen Sehbehinderung oder Blindheit
 \, wie man sich in der Dunkelheit orientiert.\n\n\n\n\nDie nächsten zwei 
 Stunden geht es dann nur darum\, Eure Geschmacksnerven herauszufordern und
  zu belohnen. Freut Euch auf puren Genuss\, der verschiedene saisonale Kö
 stlichkeiten nicht nur auf Euren Tellern\, sondern auch auf der Zunge zu e
 iner echten Geschmacksexplosion vereint.\nBegrüßungssekt | Vorspeise | S
 uppe | Hauptgang | Dessert | Digestif\nGetränke sind nicht im Preis inbeg
 riffen - Bitte halten Sie Bargeld bereit.\nSie wählen: Gericht mit Fleisc
 h - Vegetarisch - Vegan\n\nDauer der Veranstaltung: 2\,5 Stunden\nKosten: 
 89 € Mitglieder/ 95 € Regulär\n\nWir fahren direkt ab Schneverdingen 
 mit Kleinschmidt´s Busreisen\, Treffpunkt am Brink\n\nWir bitten um Anmel
 dung bis zum 31. Januar mit Angabe des Essenwunsches (Fleisch - Vegetarisc
 h - Vegan) per Mail an: kontakt@kulturverein-schneverdingen.de oder 05193/
 517559.\n\nGemeinsame Veranstaltung mit Kommune inklusiv/Lebenshilfe Solta
 u\n
ATTACH;FMTTYPE=image/jpeg:https://kulturverein-schneverdingen.de/wp-conten
 t/uploads/2024/01/9.png
CATEGORIES:Abends,Aktuell,Anlass/Voraussetzung,Archiv,Barrierefrei,Begegnu
 ngen/zusammen sein,Bei Regenwetter,Kommende Veranstaltungen,Mit der
 Familie,Mit mehreren Leuten/wenn Besuch
 kommt,Sonstiges,Tageszeit,Veranstaltungsart
LOCATION:Busparkplatz\, Am Brink\, Schneverdingen\, 29640\, Deutschland
X-APPLE-STRUCTURED-LOCATION;VALUE=URI;X-ADDRESS=Am Brink\, Schneverdingen\,
  29640\, Deutschland;X-APPLE-RADIUS=100;X-TITLE=Busparkplatz:geo:0,0
END:VEVENT
END:VCALENDAR