BEGIN:VCALENDAR
VERSION:2.0
PRODID:-//wp-events-plugin.com//7.2.3.1//EN
BEGIN:VEVENT
UID:5883@kulturverein-schneverdingen.de
DTSTART:20201206T140000Z
DTEND:20201206T160000Z
DTSTAMP:20200916T144601Z
URL:https://kulturverein-schneverdingen.de/events/calluna-weihnachtsmaerch
 en-froehliche-weihnachten-mr-scrooge-2/
SUMMARY:***Fällt leider aus!*** Calluna Weihnachtsmärchen: "Fröhliche We
 ihnachten\, Mr. Scrooge"
DESCRIPTION:Märchen zur Weihnachtszeit\n\nDie Calluna Bühne präsentiert:
   "Fröhliche Weihnachten\, Mr. Scrooge"\nNach „Eine Weihnachtsgeschich
 te“ („A Christmas Carol“) von Charles Dickens\nfür die Bühne bearb
 eitet von Marc Gruppe\n\nRegie: Kathrin Pfeiffer\n\nCharles Dickens‘ Wei
 hnachtsgeschichte findet in dieser Bühnenversion eine kongeniale Variatio
 n. Scrooge ist ein widerlicher alter Geizhals\, unter dem alle zu leiden h
 aben: sein Neffe\, sein Angestellter\, alle Menschen um ihn herum\, die si
 ch an diesem 24. Dezember\, an dem das Stück spielt\, in weihnachtliche S
 timmung bringen wollen. Denn Weihnachten\, das ist für Scrooge klar\, ist
  Humbug\, Tage wie alle anderen! Aber die nun folgende Weihnachtsnacht sol
 l ihn eines Besseren belehren. Zunächst erscheint ihm der Geist seines ve
 rstorbenen Teilhabers Marley\, der ihn warnt\, sein hartherziges Leben nic
 ht weiter so fortzusetzen – er schmore seit Jahren dafür im Höllenfeue
 r. Und dann sind es drei weitere Geister\, die Scrooge einen Rückblick in
  seine eigene Kindheit\, einen Blick auf das Weihnachten anderer Menschen\
 , und einen Blick in die Zukunft zeigen... Lässt Scrooge sich ob all dies
 er Eindrücke läutern\, wird er eine neue Seite an sich entdecken?\n\nDas
  Theaterstück kommt durch die Spieler der Calluna Bühne Schneverdingen z
 ur Aufführung.\nDauer: ca. 80 Minuten\n\nAufführungstermine:\nSamstag\, 
 05. Dezember 2020\, 16 Uhr (Premiere)\,\nSonntag\, 06. Dezember 2020\, 16 
 Uhr\,\nMontag\, 07. Dezember 2020\, 9 Uhr und 11 Uhr (nur für Kita- und S
 chulgruppen)\nAufführungsort: Bürgersaal der FZB\, Auf dem Eck 2\, Schne
 verdingen\nKarten: KulturStellmacherei\, Buchhandlung Vielseitig\, Famila\
 , Schneverdingen Touristik\n\nPreise:\nSamstag/Sonntag: 7 Euro/Person (Erm
 äßigung für Mitglieder)\nGruppen zu den Montagsaufführungen: 5 Euro/Pe
 rson\, 2 Begleitpersonen je Gruppe frei\n\nKooperation Kulturverein / Call
 una Bühne\, verantwortlich: Calluna Bühne\n\nEin Erlebnis für die ganze
  Familie!\nEmpfohlen für Kinder ab 5 Jahren!
ATTACH;FMTTYPE=image/jpeg:https://kulturverein-schneverdingen.de/wp-conten
 t/uploads/2019/08/20191207_bis_20191209_Weihnachtstheater_Mr_Scrooge_1-sca
 led.jpeg
CATEGORIES:Aktuell,Archiv
LOCATION:FZB\, Bürgersaal\, Auf dem Eck 2\, Schneverdingen\, 29640\, Deuts
 chland
GEO:53.11149;9.7894
X-APPLE-STRUCTURED-LOCATION;VALUE=URI;X-ADDRESS=Auf dem Eck 2\, Schneverdin
 gen\, 29640\, Deutschland;X-APPLE-RADIUS=100;X-TITLE=FZB\, Bürgersaal:geo
 :53.11149,9.7894
END:VEVENT
END:VCALENDAR