BEGIN:VCALENDAR
VERSION:2.0
PRODID:-//wp-events-plugin.com//7.2.3.1//EN
BEGIN:VEVENT
UID:8792@kulturverein-schneverdingen.de
DTSTART:20251127T173000Z
DTEND:20251127T203000Z
DTSTAMP:20250811T114455Z
URL:https://kulturverein-schneverdingen.de/events/buehne-frei-2025-11-27/
SUMMARY:Bühne frei! Latinakatze Show
DESCRIPTION:Wenn Julia Tronina als Latinakatze die Bühne betritt\, ist sie
  nie allein. Die Sängerin\, Schauspielerin\,\nTänzerin\, Liedermacherin 
 und Komikerin wird begleitet von vielen Persönlichkeiten: die verbitterte
  Erna\,\ndie immer grantig ist\, Helena\, eine unsichere Prostituierte\, d
 ie famegeile Nagelsusi\, eine quirlige\nNageldesignerin\, die um jeden Pre
 is berühmt werden will\, ihre dominante Mutter Celestina\, die einen\nLus
 ttempel führt und Männer für ihre Zwecke zu gebrauchen weiß\, und Herm
 ann\, ein hoffnungsloser\nFall hinsichtlich der Frauenwelt\, der auf Wunsc
 h seiner verzweifelten Mutter Erna hin\, Celestinas\nLaufhaus aufsucht. Wi
 e die sonderbare Verstrickung der Charaktere schon erahnen lässt\, sind l
 ustige\nund absurde Situationen sowie Chaos vorprogrammiert.\nJulia Tronin
 a aka. Latinakatze ist eine charismatische independent Singer-Songwriterin
 \,\nMusicaldarstellerin und wahre Showdame aus Hamburg\, die mit ihrer kr
 äftigen und zugleich sanft\nberührenden Stimme das Publikum von Wien bis
  Hamburg und New York City\, quer durch Europa in\nTheatern\, Festen\, Fes
 tivals und Flusskreuzfahrtschiffen zum Fühlen\, Lachen und Tanzen bewegt.
 \nBühne frei! für Julia Tronina als Latinakatze!
ATTACH;FMTTYPE=image/jpeg:https://kulturverein-schneverdingen.de/wp-conten
 t/uploads/2025/06/2025_11_27_Latinakatze-Show_PressefotoJPG-scaled.jpg
CATEGORIES:Abends,Aktuell,Anlass/Voraussetzung,Archiv,Barrierefrei,Begegnu
 ngen/zusammen sein,Bei Regenwetter,Eintritt frei,Kommende
 Veranstaltungen,Mit der Familie,Mit mehreren Leuten/wenn Besuch
 kommt,Sonstiges,Tageszeit,Veranstaltungsart
LOCATION:Kulturhaus "Alte Schlachterei"\, Am Markt 2 \, Schneverdingen\, 29
 640\, Deutschland
GEO:53.115125;9.791724
X-APPLE-STRUCTURED-LOCATION;VALUE=URI;X-ADDRESS=Am Markt 2 \, Schneverdinge
 n\, 29640\, Deutschland;X-APPLE-RADIUS=100;X-TITLE=Kulturhaus \"Alte Schla
 chterei\":geo:53.115125,9.791724
END:VEVENT
END:VCALENDAR