BEGIN:VCALENDAR
VERSION:2.0
PRODID:-//wp-events-plugin.com//7.2.3.1//EN
BEGIN:VEVENT
UID:6651@kulturverein-schneverdingen.de
DTSTART:20220729T170000Z
DTEND:20220729T200000Z
DTSTAMP:20220530T191125Z
URL:https://kulturverein-schneverdingen.de/events/best-of-kultlegenden/
SUMMARY:Best of KultLegenden
DESCRIPTION:50 Jahre Kulturverein Schneverdingen und die 20. Veranstaltung 
 in der Reihe KultLegenden \ndas schreit doch geradezu nach einem Best-of!
  Dazu lädt der Kulturverein am 29. Juli 2022 in den Biergarten am Rathaus
  ein. Ab 19.00 Uhr gibt es dann Rockmusik vom Feinsten in Ton und Bild.\nI
 n der Reihe  KultLegenden präsentieren wir seit den frühen 2000ern die 
 großen Stars der Rockszene: Von Bowie bis Zappa\, von Bob Dylan bis Sting
 \, von Led Zeppelin bis The Who – alle wurden in der KulturStellmacherei
  mit berühmten und weniger bekannten Konzertausschnitten abgefeiert. Zwis
 chen den Liveacts auf der großen Leinwand servierten Carsten Bargmann und
   Frank Jonas Wissenswertes und Anekdoten zu den Bands und Musikern. In d
 en KultSpecials gab es viel Überraschendes zum Beispiel zum Woodstock-Fes
 tival 1969\, zum Club der 27er oder zur Ära des Glam Rocks.\nNun also ein
  Best-of: David Bowie als Ziggy Stardust\, Eric Clapton mit Phil Collins\,
  Udo Lindenberg auf der Andrea Doria\, Sting mit Orchester\, U2\, Freddy M
 ercury oder die Rolling Stones – sie alle sollen im Biergarten auf der g
 roßen Leinwand geehrt werden. Zwischen den Acts unterhält Moderator Fran
 k Jonas mit kurzweiligen Infos zu den Künstlern.\nBiergartenwirt Peter un
 d sein Team versorgen die Fans mit Getränken und Speisen. Gutes Wetter is
 t selbstverständlich und somit fehlt nur noch ein fachkundiges und feierf
 reudiges Publikum! Und das seid Ihr! \nEinritt: VK  5 €/ Ak    7  
 € 
ATTACH;FMTTYPE=image/jpeg:https://kulturverein-schneverdingen.de/wp-conten
 t/uploads/2022/04/20Jahre_KultLegenden.jpg
CATEGORIES:Abends,Aktuell,Anlass/Voraussetzung,Archiv,Barrierefrei,Begegnu
 ngen/zusammen sein,Kommende Veranstaltungen,Mit mehreren Leuten/wenn
 Besuch kommt,Sonstiges,Tageszeit,Veranstaltungsart
LOCATION:Biergarten am Rathaus\, Marktstraße 4\, Schneverdingen\, 29640\, 
 Deutschland
GEO:53.1190757;9.785757500000045
X-APPLE-STRUCTURED-LOCATION;VALUE=URI;X-ADDRESS=Marktstraße 4\, Schneverdi
 ngen\, 29640\, Deutschland;X-APPLE-RADIUS=100;X-TITLE=Biergarten am Rathau
 s:geo:53.1190757,9.785757500000045
END:VEVENT
END:VCALENDAR