BEGIN:VCALENDAR
VERSION:2.0
PRODID:-//wp-events-plugin.com//7.2.3.1//EN
BEGIN:VEVENT
UID:6361@kulturverein-schneverdingen.de
DTSTART:20201212T170000Z
DTEND:20201212T193000Z
DTSTAMP:20201126T083648Z
URL:https://kulturverein-schneverdingen.de/events/ben-becker-rezitiert-der
 -ewige-brunnen/
SUMMARY:***Wird verlegt!*** Ben Becker rezitiert "Der ewige Brunnen" - Deut
 sche Dichtkunst aus acht Jahrhunderten
DESCRIPTION:Der Schauspieler Ben Becker unterstützt den Kulturverein zugun
 sten des Kulturhauses "Alte Schlachterei". Die Eintrittsgelder gehen in vo
 ller Höhe auf die Konten für den Bau des Kulturhauses "Alte Schlachterei
 ".\n\n\n\nBen Becker spricht "Der ewige Brunnen"\nMusikalische Begleitung 
 : Yoko Rohm\n\nhttps://www.youtube.com/watch?v=9clwC8Ad4CE&amp\;feature=em
 b_logo\n\n\n\nLudwig Reiners Gedichtsammlung „Der Ewige Brunnen“ von 1
 955 findet sich in etlichen Bücherregalen. Für Schauspieler Ben Becker (
 54) verbinden sich mit dem „Hausbuch deutscher Dichtung“\, aus dem er 
 in der Peter- und Paul-Kirche liest\, lebhafte Erinnerungen an Weihnachtsa
 bende mit prominenten Freunden der Familie.\n\n\n\nDer Schauspieler und S
 änger Ben Becker wurde am 19. Dezember 1964 in Bremen geboren und lebt he
 ute in Berlin. Er ist der Sohn des Schauspieler-Ehepaars Rolf Becker und M
 onika Hansen. Seine Schwester Meret Becker ist ebenfalls Schauspielerin wi
 e es auch sein Stiefvater Otto Sander war. Ben Beckers Großmutter war die
  Komikerin Claire Schlichting\, sein Onkel der Komiker Jonny Buchardt. Ber
 eits als Kind hatte Ben Becker kleinere Filmrollen und sprach in Hörspiel
 en. Nach Schauspielunterricht machte er am Theater Karriere\, später auch
  noch im Film\, etwa in Joseph Vilsmaiers „Schlafes Bruder“\, in der F
 ilmbiografie „Comedian Harmonists“ oder neben seiner Schwester Meret i
 n dem Märchenfilm „Die kleine Meerjungfrau“. Er veröffentlichte vier
  Kinderbücher mit der Hauptfigur Bruno\, ein Junge mit grünen Haaren. Gr
 oße Erfolge feierte Ben Becker auch mit seinen Performances wie „Ich\, 
 Judas“ oder „Die Bibel – Eine gesprochene Symphonie“.\n\n\n\n\n\nT
 ickets limitiert Eintritt 50 € KAT 1 / 35 €  KAT 2 (Sicht eingeschrä
 nkt)\nGemeinsame Veranstaltung mit der Kirchengemeinde Peter-u. Paul.\n\nB
 itte bringen Sie möglichst das Kontaktformular_KV schon fertig ausgefüll
 t mit zu der Veranstaltung und wir sparen uns die Formalitäten vor Ort un
 d entzerren den Eingangsbereich.\n\nHygienekonzept KV_12.12.2020
ATTACH;FMTTYPE=image/jpeg:https://kulturverein-schneverdingen.de/wp-conten
 t/uploads/2020/11/Ben-Becker_der-ewige-Brunnen.jpg
CATEGORIES:Aktuell,Archiv
LOCATION:Peter und Paul Kirche\, Friedensstraße\, Schneverdingen\, 29640\,
  Deutschland
GEO:53.1170322;9.785943599999996
X-APPLE-STRUCTURED-LOCATION;VALUE=URI;X-ADDRESS=Friedensstraße\, Schneverd
 ingen\, 29640\, Deutschland;X-APPLE-RADIUS=100;X-TITLE=Peter und Paul Kirc
 he:geo:53.1170322,9.785943599999996
END:VEVENT
END:VCALENDAR