BEGIN:VCALENDAR
VERSION:2.0
PRODID:-//wp-events-plugin.com//7.2.3.1//EN
BEGIN:VEVENT
UID:8446@kulturverein-schneverdingen.de
DTSTART:20250404T170000Z
DTEND:20250404T194500Z
DTSTAMP:20250317T081950Z
URL:https://kulturverein-schneverdingen.de/events/ausserordentliche-mitgli
 ederversammlung/
SUMMARY:Außerordentliche Mitgliederversammlung
DESCRIPTION:Einladung\nzur außerordentlichen Mitgliederversammlung \n \na
 m Freitag\, 04. April um 19 Uhr\nin der Aula der Grundschule am Osterwald\
 , Osterwaldweg 13\n&nbsp\;\nTagesordnung\nTOP 1             Be
 grüßung\n TOP 2             Regularien - Feststellung der or
 dnungsgemäßen Ladung\nTOP 3             Information über de
 n aktuellen Finanzplan für das Kulturhaus                
          sowie die geplante Kreditaufnahme\n TOP 4         
    Schließung der Versammlung\n&nbsp\;\n Dr. Carsten Bargmann\, Vorsi
 tzenderSchneverdingen\, 15.03.2025    \n&nbsp\;\n\n&nbsp\;\n
ATTACH;FMTTYPE=image/jpeg:https://kulturverein-schneverdingen.de/wp-conten
 t/uploads/2025/03/Kopie-von-English-Conversation-71.png
CATEGORIES:Abends,Aktuell,Anlass/Voraussetzung,Archiv,Barrierefrei,Begegnu
 ngen/zusammen sein,Eintritt frei,Kommende
 Veranstaltungen,Sonstiges,Tageszeit,Veranstaltungsart
LOCATION:Grundschule am Osterwald\, Osterwaldweg 13\, Schneverdingen\, 2964
 0\, Deutschland
GEO:53.1189529;9.794335199999978
X-APPLE-STRUCTURED-LOCATION;VALUE=URI;X-ADDRESS=Osterwaldweg 13\, Schneverd
 ingen\, 29640\, Deutschland;X-APPLE-RADIUS=100;X-TITLE=Grundschule am Oste
 rwald:geo:53.1189529,9.794335199999978
END:VEVENT
END:VCALENDAR