BEGIN:VCALENDAR
VERSION:2.0
PRODID:-//wp-events-plugin.com//7.2.3.1//EN
BEGIN:VEVENT
UID:6167@kulturverein-schneverdingen.de
DTSTART:20201023T180000Z
DTEND:20201023T203000Z
DTSTAMP:20200722T101146Z
URL:https://kulturverein-schneverdingen.de/events/appeltown-washboard-worm
 s-konzert-2/
SUMMARY:***Neuer Termin: 16.07.2021*** "Appeltown Washboard Worms" - Konzer
 t
DESCRIPTION:COUNTRY-FIDDLE-ROCK\n\nDie „Appeltown Washboard Worms“ habe
 n inzwischen die Skiffle-Musik Hamburger Bands der 50er Jahre behutsam zu 
 Grabe getragen und heben sich in ihrem abwechslungsreichen Programm wohltu
 end von der großen Schar schrammelnder Skiffle-Bands ab. Bei ihnen beglei
 tet die E-Gitarre die bekanntesten Country-Songs des Banjo-Spielers\, vorg
 etragen mit einer Stimme nah an Johnny Cash\, hört man schneidenden Boogi
 e Woogie\, häufig akrobatisch vierhändig auf dem Piano zelebriert. Ergä
 nzt wird die Band seit 2011 von zwei gestandenen Hamburger Musikprofis. Am
  Kontrabass steht ein Urgestein der Jazzer-Szene\, bringt der Band den Swi
 ng und Jazzstandards und die Country-Fiddle spielt ein Teufelsgeiger aus 
 Österreich\, dessen Soli stets Begeisterungsstürme auslösen.\n\nDas Pro
 gramm der „Appeltowns“ enthält filigrane Bluegrass-Stücke ebenso wie
  Country-Balladen\, fetziger Rock´n´Roll wechselt mit groovenden Boogie-
 Nummern\, aber im Zentrum stehen immer noch die traditionellen Skiffle-St
 ücke der 50er und 60er Jahre.\n\nEin Abend zum Spaß haben.\n\n \nBesetz
 ung:\nCarsten Meins           5string Banjo\, Mandoline\, Kontra
 bass\, Gesang\,Train-Whistle\nFinn Olaf Walter        E-Gitarre\, G
 esang\nMatthias Meissner    Drums\, Waschbrett\, Kochtöpfe\, Cajon\nKla
 us Lüers                Kontrabass\, Akkordeon\, Piano\, G
 esang\nHelmut Stuarnig       Country-Fiddle\nWolfgang Hilke    
       A-Gitarre\, Gesang\nVVK 18   €   AK  20  €\nGemeinsame
  Veranstaltung mit dem Heimatbund Schneverdingen e.V.
ATTACH;FMTTYPE=image/jpeg:https://kulturverein-schneverdingen.de/wp-conten
 t/uploads/2018/03/AWW-allg-1-klein-1.jpg
CATEGORIES:Aktuell,Archiv
LOCATION:Theeshof\, Hansahlener Dorfstraße 16\, Schneverdingen\, 29640\, D
 eutschland
GEO:53.12992999999999;9.786280000000033
X-APPLE-STRUCTURED-LOCATION;VALUE=URI;X-ADDRESS=Hansahlener Dorfstraße 16\
 , Schneverdingen\, 29640\, Deutschland;X-APPLE-RADIUS=100;X-TITLE=Theeshof
 :geo:53.12992999999999,9.786280000000033
END:VEVENT
END:VCALENDAR