BEGIN:VCALENDAR
VERSION:2.0
PRODID:-//wp-events-plugin.com//7.2.3.1//EN
BEGIN:VEVENT
UID:9829@kulturverein-schneverdingen.de
DTSTART:20260828T170000Z
DTEND:20260828T200000Z
DTSTAMP:20260327T151746Z
URL:https://kulturverein-schneverdingen.de/events/akkordeonkonzert-zum-hei
 debluetenfest/
SUMMARY:Akkordeonkonzert zum Heideblütenfest
DESCRIPTION:Das Akkordeon ist das Instrument des Jahres 2026! Das Akkordeon
 orchester Visselhövede\, unter der Leitung von Svenja Löding und mit run
 d 25 Akkordeonist*innen\, rockt seit 1968 die Bühne – und zwar mit eine
 m Mix aus Rock\, Pop\, Musical und Klassik. Kurz gesagt: die Musiker*innen
  ziehen alle Register und bringen die Heide zum Wackeln! Lassen Sie sich d
 iesen musikalischen Abend nicht entgehen und erleben Sie\, wie viel Power 
 in einem Akkordeonorchester steckt! Kinder bis 14 Jahre frei\n\nGemeinsame
  Veranstaltung mit Heideblüte Schneverdingen e.V.\n\n&nbsp\;
ATTACH;FMTTYPE=image/jpeg:https://kulturverein-schneverdingen.de/wp-conten
 t/uploads/2026/01/DSC_1648-Enhanced-NR-2-scaled.jpg
CATEGORIES:Abends,Aktuell,Anlass/Voraussetzung,Archiv,Barrierefrei,Kommend
 e Veranstaltungen,Konzert,Mit der Familie,Mit mehreren Leuten/wenn Besuch
 kommt,Sonstiges,Tageszeit,Veranstaltungsart
LOCATION:Kulturhaus "Alte Schlachterei"\, Am Markt 2 \, Schneverdingen\, 29
 640\, Deutschland
GEO:53.115125;9.791724
X-APPLE-STRUCTURED-LOCATION;VALUE=URI;X-ADDRESS=Am Markt 2 \, Schneverdinge
 n\, 29640\, Deutschland;X-APPLE-RADIUS=100;X-TITLE=Kulturhaus \"Alte Schla
 chterei\":geo:53.115125,9.791724
END:VEVENT
END:VCALENDAR