BEGIN:VCALENDAR
VERSION:2.0
PRODID:-//wp-events-plugin.com//7.2.3.1//EN
BEGIN:VEVENT
UID:6282@kulturverein-schneverdingen.de
DTSTART:20201127T173000Z
DTEND:20201127T200000Z
DTSTAMP:20201027T073808Z
URL:https://kulturverein-schneverdingen.de/events/8-alleingang-von-betreut
 es-impro/
SUMMARY:***Fällt leider aus!*** 8. Alleingang von Betreutes Impro
DESCRIPTION:Betreutes Impro tritt in diesem Jahr erstmalig im Vorweihnachts
 programm des Kulturvereins auf. Das Ensemble ist schon sehr gespannt\, wel
 che Erinnerungsgeschichten das Publikum dieses Mal als Vorgabe dabei hat u
 nd welche Gegenstände aus seinen Handtaschen als Requisiten zum Vorschein
  kommen. Da wie immer viele Vorgaben vom Publikum kommen\, wissen auch die
  Spieler*innen beim Auftritt nie\, was im nächsten Moment passieren wird\
 , denn nur die Spielarten sind geplant. Dadurch wird jede Show zu einem ei
 nzigartigem Erlebnis für alle Anwesenden. Freuen Sie sich mit uns auf ein
 en weiteren spaßigen und unterhaltsamen Abend.\n\nSpezialgast am Keyboard
  : Markus Glossner\,Hamburg\n\nDer Förderverein der Grundschule Osterwald
  e.V. sorgt freundlicherweise wieder für die Pausengetränke.
ATTACH;FMTTYPE=image/jpeg:https://kulturverein-schneverdingen.de/wp-conten
 t/uploads/2020/05/20200306_ErwinOliverHaraldPatriciaKarinaFrauke-scaled.jp
 g
LOCATION:Grundschule am Osterwald\, Osterwaldweg 13\, Schneverdingen\, 2964
 0\, Deutschland
GEO:53.1189529;9.794335199999978
X-APPLE-STRUCTURED-LOCATION;VALUE=URI;X-ADDRESS=Osterwaldweg 13\, Schneverd
 ingen\, 29640\, Deutschland;X-APPLE-RADIUS=100;X-TITLE=Grundschule am Oste
 rwald:geo:53.1189529,9.794335199999978
END:VEVENT
END:VCALENDAR