BEGIN:VCALENDAR
VERSION:2.0
PRODID:-//wp-events-plugin.com//7.2.3.1//EN
BEGIN:VEVENT
UID:9857@kulturverein-schneverdingen.de
DTSTART:20260923T180000Z
DTEND:20260923T203000Z
DTSTAMP:20260317T123003Z
URL:https://kulturverein-schneverdingen.de/events/7-supergute-tage-caveman
 -mit-kristian-bader/
SUMMARY:7. Supergute Tage: Caveman mit Kristian Bader
DESCRIPTION:\n\nDer Amerikaner Rob Becker schrieb mit CAVEMAN das erfolgrei
 chste Solo-Stück in der Geschichte des Broadways. Nachdem CAVEMAN in den 
 Vereinigten Staaten von einem Millionen-Publikum bejubelt wurde\, feiert d
 er moderne Höhlenmann weltweite Erfolge. Auch hierzulande begeistert die 
 Kult-Comedy in der Übersetzung von Kristian Bader und der Regie von Esthe
 r Schweins alle\, die eine Beziehung führen\, führten oder führen wolle
 n. Denn CAVEMAN wirft einen ganz eigenen Blick auf die Beziehung zwischen 
 Mann und Frau.\n\nVon seiner Frau vor die Tür gesetzt begegnet Tom\, der 
 sympathische Held im Beziehungsdickicht\, im "magischen Unterwäschekreis"
  seinem Urahn aus der Steinzeit\, der ihn an Jahrtausende alter Weisheit t
 eilhaben lässt: Männer sind Jäger und Frauen sind Sammlerinnen. Eine Ta
 tsache\, die die menschliche Evolution bis heute nicht hat ändern können
 . Was der Durchschnitts-Mann schon immer vermutet hat\, weiß Tom nun aus 
 erster Hand und fragt sich: "Warum betrachten wir Frauen und Männer nicht
  einfach als völlig unterschiedliche Kulturen? Mit verschiedenen Sprachen
 \, verschiedenen Verhaltensweisen und verschiedener Herkunft?" Von dieser 
 Erkenntnis beflügelt\, analysiert Tom das befremdliche Universum der Samm
 lerinnen: Diese geheimnisvolle Welt von besten Freundinnen\, Einkaufen und
  Sex. Mit immensem Mitteilungsbedürfnis\, trockenem Humor und ironischem 
 Blick beobachtet Tom auch die Lebensweise des Jägers. Er enthüllt\, welc
 he Erfüllung „Rumsitzen\, ohne zu reden“ bedeuten kann\, warum Männe
 r durch das Fernsehprogramm zappen müssen und dass eine Unterhaltung unte
 r Jägern mit den Worten "Lass uns in den Keller gehen\, Sachen bohren" be
 ginnt und gleichzeitig endet.\n\n \n\nOriginal: "Defending the Caveman" v
 on Rob Becker\nÜbersetzung: Kristian Bader\nRegie: Esther Schweins\nProdu
 ktion und Aufführungsrecht: Theater Mogul GmbH\nwww.caveman.de\n\n\n\n[Fo
 to: Joerg Reichhardt]\n\nTickets und Infos auch unter www.CAVEMAN.de\n\nDe
 r Abend wird unterstützt von den Schneverdinger Landfrauen.
ATTACH;FMTTYPE=image/jpeg:https://kulturverein-schneverdingen.de/wp-conten
 t/uploads/2019/06/CAVEMAN-Kristian_Bader-6977_300dpi-scaled.jpg
CATEGORIES:Abends,Aktuell,Anlass/Voraussetzung,Archiv,Comedy/Kabarett,Komm
 ende Veranstaltungen,Mit der Familie,Mit mehreren Leuten/wenn Besuch
 kommt,Sonstiges,Tageszeit,Veranstaltungsart
LOCATION:Zirkuszelt an der Grundschule am Osterwald\, Am Osterwald 13\, Sch
 neverdingen\, 29640\, Deutschland
X-APPLE-STRUCTURED-LOCATION;VALUE=URI;X-ADDRESS=Am Osterwald 13\, Schneverd
 ingen\, 29640\, Deutschland;X-APPLE-RADIUS=100;X-TITLE=Zirkuszelt an der G
 rundschule am Osterwald:geo:0,0
END:VEVENT
END:VCALENDAR