BEGIN:VCALENDAR
VERSION:2.0
PRODID:-//wp-events-plugin.com//7.2.3.1//EN
BEGIN:VEVENT
UID:6498@kulturverein-schneverdingen.de
DTSTART:20220225T160000Z
DTEND:20220225T200000Z
DTSTAMP:20220205T172643Z
URL:https://kulturverein-schneverdingen.de/events/5ter-kulinarischer-klein
 kunstabend/
SUMMARY:5ter Kulinarischer Kleinkunstabend
DESCRIPTION:50 Jahre Kulturverein – Erfolgreiche Formate neu aufgelegt\n\
 n5ter Kulinarischer Kleinkunstabend\nZu unserem Jubiläum möchten wir erf
 olgreiche Formate aus unserer 50jährigen Vereinsgeschichte wieder auflebe
 n lassen und gemeinsam mit Ihnen feiern. Aufgrund der großen Nachfrage we
 rden wir Ihnen nach langer Pause wieder einen kulinarischen Abend mit  un
 terhaltsamen Kulturprogramm in ausgesuchten Schneverdingen Restaurants pr
 äsentieren. Dafür laden wir Sie herzlich zum 5ten Kulinarischen Kleinkun
 stabend am Freitag\, den 25. Februar 2022 ein.\nIn den Restaurants „Zum 
 Alten Krug“\, „Athen“ und Landhaus Höpen werden wir Sie mit einem h
 ochwertigen 4-Gänge Menü verwöhnen. Drei hochwertige Darbietungen werde
 n zwischen den Gängen für Unterhaltung auf hohem Niveau sorgen. Die Kün
 stler wechseln die Auftrittsorte zwischen den einzelnen Restaurants\, wäh
 rend Sie entspannt genießen dürfen.\nUnsere Künstler:\nSven Hegeler –
  Comedy Koch\n\nMaitre Didian Poulet \, ein kleiner charmanter französisc
 her Koch und seine gefiederte Assistentin Jaquiline\, ein quicklebendiges 
 Zwerghuhn\, servieren eine Comedie a la carte. Charmant servieren sie eine
  Mischung aus Slapstick\, Komik und Küchenzaubereien.\nChristian Korten 
 – Stimmenimitator und Humorist\n\nImitationen und Stand Up Comedy mit vi
 el Witz und Charme. Sie werden Ihre 15 Stargäste zwar nicht zu Gesicht b
 ekommen\, aber ihre Stimmen werden Sie sofort wiedererkennen. Kurzweiliges
 \, niveauvolles Entertainment mit Prominenten wie\nAngela Merkel\, Heinz E
 rhardt oder Udo Lindenberg.\n\nHerr Niels – Mime Comedian (neu!!!)\n\nJe
 ff Hess hat sich an der Schuler verletzt und muss seinen Auftritt auf dem 
 „5ten Kulinarischen Kleinkunstabend leider absagen. Wir bedauern dies se
 hr und wünschen Jeff gute Besserung und eine schnelle Genesung. Zum Glüc
 k ist es uns gelungen\, einen mindestens gleichwertigen Ersatz für Jeff H
 ess zu finden: Der einmalig wundervolle Herr Niels wird kurzfristig einspr
 ingen und den Gästen  aus nächster Nähe sein unglaubliche Performance 
 präsentieren.\nHerr Niels ist Mime Comedian\, der eigentlich nichts macht
 . Doch wenn er etwas macht\, dann meistens nur Blödsinn. Mit seiner auße
 rgewöhnlichen Körperbeherrschung und Bühnenpräsenz ist er internationa
 l mehrfach ausgezeichnet und gehört zu den besten und gefragtesten Visual
  Comedy Acts. Man versteht ihn weltweit und seine Referenzen reichen vom "
 Daidogei Worldcup" in Shizuoka/Japan bis hin zum berühmten Comedy Arts Fe
 stival in Moers\, von Galaauftritten beim Deutschen Filmpreis in Berlin ü
 ber Engagements in Monaco\, bis zu TV-Shows in Paris und Peking.\nLink: He
 rr Niels beim NDR-Comedy Contest 2016\nhttps://vimeo.com/158517777\nLink: 
 Herr Niels - Trailer\nhttps://www.youtube.com/watch?v=L5P5B6x7lDs\n&nbsp\;
 \nTeilnehmende Restaurants:\nZum Alten Krug\, Bruchstr. 2\, Tel. 05193 - 
  3450\nRestaurant Athen\, Bahnhofstr. 3\, Tel. 05193 - 3374\nLandhaus Höp
 en\, Höpener Weg 9-13\, Tel. 05193 - 820\nHier finden Sie einen Überblic
 k über die angebotenen Menüs:\nKulinarischer Kleinkunstabend 2022\nEintr
 itt 65 €\nEine Ermäßigung können wir leider nicht gewähren.\nKarten 
 und Tischreservierungen in unserer KulturStellmacherei\, Oststraße 31 und
  im Restaurant Athen. Wir können leider keine Ermäßigung gewähren. Es 
 gelten die aktuellen Corona-Regelungen des Landes Niedersachsen.\nWeitere 
 Infos erhalten Sie in unserer Geschäftsstelle. (05193/ 517559)\n&nbsp\;
ATTACH;FMTTYPE=image/jpeg:https://kulturverein-schneverdingen.de/wp-conten
 t/uploads/2021/11/1-Kopie.jpg
CATEGORIES:Abends,Aktuell,Anlass/Voraussetzung,Archiv,Begegnungen/zusammen
 sein,Bei Regenwetter,Comedy/Kabarett,Kommende Veranstaltungen,Mit der
 Familie,Mit mehreren Leuten/wenn Besuch kommt,Tageszeit,Veranstaltungsart
LOCATION:Kulturhaus "Alte Schlachterei"\, Am Markt 2 \, Schneverdingen\, 29
 640\, Deutschland
GEO:53.115125;9.791724
X-APPLE-STRUCTURED-LOCATION;VALUE=URI;X-ADDRESS=Am Markt 2 \, Schneverdinge
 n\, 29640\, Deutschland;X-APPLE-RADIUS=100;X-TITLE=Kulturhaus \"Alte Schla
 chterei\":geo:53.115125,9.791724
END:VEVENT
END:VCALENDAR