BEGIN:VCALENDAR
VERSION:2.0
PRODID:-//wp-events-plugin.com//7.2.3.1//EN
BEGIN:VEVENT
UID:7738@kulturverein-schneverdingen.de
DTSTART:20250306T153000Z
DTEND:20250306T213000Z
DTSTAMP:20241111T095150Z
URL:https://kulturverein-schneverdingen.de/events/5-vergnuegliche-kultabot
 our-winterhuder-faehrhaus-spiel-gewinnt/
SUMMARY:5. vergnügliche KultABOTour - "Spiel gewinnt"
DESCRIPTION:\nEs handelt sich um eine unserer Fahrten aus der Aboreihe. Die
  fünf Veranstaltungen können nur im Paket gebucht werden.\n\n\n\nKomödi
 e Winterhuder Fährhaus"Spiel gewinnt"\n\n\n\nGeschützt gegen tödliche V
 iren\, unvorsichtige Mitmenschen und alle anderen Zumutungen des modernen 
 Lebens haust IT-Spezialist und Eremit Felix in seinem „Super Smart Home
 “ – inmitten von Apps und Touch Screens. Denn er ist sicher: Die Welt 
 vor seiner Tür ist grausam\, kalt und außerdem ist der Kaffee da drauße
 n ungenießbar. Umso schockierender für den Einsiedler\, als plötzlich d
 ie herzlich-chaotische und ein wenig übergriffige Miriam in sein Refugium
  einbricht und im Auftrag der Stadt die Rauchmelder kontrollieren soll. In
  immer wieder anderen Jobs taucht sie bei ihm auf und bringt seine lieb ge
 wonnene Routine gehörig ins Schleudern.\n\n\n\nAls sich die patente Singl
 e-Frau dann auch noch in Felix verknallt\, bringt das sein bestens gepanze
 rtes Herz fast zum Explodieren. Seine plötzlich auftauchende Psychotherap
 eutin gibt Felix dann noch den Rest\, denn zu ihr hat er eine ganz besonde
 rs sonderbare Beziehung. Ihm bleibt nur eine letzte Chance auf sein Seelen
 heil: die Flucht nach vorn!\n\n\n\n&nbsp\;\n\n\n\n&nbsp\;\n\n\n\nEine hoch
 aktuelle und mitreißende Komödie über Einsamkeit und wie man sie mit Mu
 t\, Leidenschaft und Fantasie wieder los wird.\n\n\n\nDo\, 06.03.2025\, 19
 .30 Uhr\n\n\n\n&nbsp\;\n\n\n\nAbfahrt mit Kleinschmidt´s Busreisen am Sch
 neverdinger Rathaus um 17.30 Uhr.\n
ATTACH;FMTTYPE=image/jpeg:https://kulturverein-schneverdingen.de/wp-conten
 t/uploads/2024/07/9.png
CATEGORIES:Abends,Aktuell,Anlass/Voraussetzung,Archiv,Begegnungen/zusammen
 sein,Bei Regenwetter,Kommende Veranstaltungen,Mit der Familie,Mit mehreren
 Leuten/wenn Besuch kommt,Tageszeit,Theater,Veranstaltungsart
LOCATION:Komödie "Winterhuder Fährhaus"\, Hudtwalckerstraße 13\, Hamburg
 \, 22299 \, Deutschland
X-APPLE-STRUCTURED-LOCATION;VALUE=URI;X-ADDRESS=Hudtwalckerstraße 13\, Ham
 burg\, 22299 \, Deutschland;X-APPLE-RADIUS=100;X-TITLE=Komödie \"Winterhu
 der Fährhaus\":geo:0,0
END:VEVENT
END:VCALENDAR