BEGIN:VCALENDAR
VERSION:2.0
PRODID:-//wp-events-plugin.com//7.2.3.1//EN
BEGIN:VEVENT
UID:6677@kulturverein-schneverdingen.de
DTSTART:20230323T153000Z
DTEND:20230323T213000Z
DTSTAMP:20220711T145112Z
URL:https://kulturverein-schneverdingen.de/events/5-kultabotour-ernst-deut
 sch-theater-diese-geschichte-von-ihnen/
SUMMARY:5. KultABOTour - Ernst-Deutsch-Theater: "Diese Geschichte von Ihnen
 "
DESCRIPTION:Es handelt sich um eine unserer Fahrten aus der Aboreihe. Die f
 ünf Veranstaltungen können nur im Paket gebucht werden.\nDonnerstag\, 23
 .03.2023\, 19.30 Uhr\, Ernst Deutsch Theater\n"Diese Geschichte von Ihnen"
 \nSchauspiel von John Hopkins\nRegie und Kostüme: Harald Weiler\nBühne: 
 Peter Schmidt\nEs geht um einen Polizisten\, der besessen ist von dem Wuns
 ch\, einen Verbrecher zu überführen und bei dessen Verhör die Kontrolle
  über sich verliert. Das Stück von Drehbuchautor John Hopkins wurde 1974
  von Sidney Lumet unter dem Titel "Sein Leben in meiner Gewalt" mit Sean C
 onnery in der Hauptrolle verfilmt.\nSergeant John ist seit mehr als 20 Jah
 ren im Polizeidienst. Es gibt nichts\, was er nicht bereits erlebt hat. Ve
 rbrechen\, die sich in seine Netzhaut und seine Seele eingebrannt haben. O
 ft war den Tätern nicht beizukommen\, aber dieses Mal ist er absolut sich
 er\, dass er mit Baxter den Mann erwischt hat\, der für eine Serie von Ge
 walttaten verantwortlich ist. Johnson setzt seine ganze Routine ein\, verh
 ört den Beschuldigten\, treibt ihn in die Enge und geht bei der Wahl sein
 er Mittel zu weit. Immer stärker dreht sich die Spirale aus begründetem 
 Verdacht\, entfesselter Empörung\, Provokation und Projektion. Aber ist B
 axter wirklich der Mann\, den er sucht?\nMit Katharina Abt\, Boris Aljinov
 ic\, Ulrich Bähnk\, Stephan Schad\, Yann Mbiene\nAbfahrt mit Kleinschmidt
 ´s Busreisen am Schneverdinger Rathaus um 17.30 Uhr.
ATTACH;FMTTYPE=image/jpeg:https://kulturverein-schneverdingen.de/wp-conten
 t/uploads/2019/02/Kulturverein-Logo_klein.jpg
CATEGORIES:Abends,Aktuell,Anlass/Voraussetzung,Archiv,Begegnungen/zusammen
 sein,Bei Regenwetter,Kommende Veranstaltungen,Mit der Familie,Mit mehreren
 Leuten/wenn Besuch kommt,Tageszeit,Theater,Veranstaltungsart
LOCATION:Kulturhaus "Alte Schlachterei"\, Am Markt 2 \, Schneverdingen\, 29
 640\, Deutschland
GEO:53.115125;9.791724
X-APPLE-STRUCTURED-LOCATION;VALUE=URI;X-ADDRESS=Am Markt 2 \, Schneverdinge
 n\, 29640\, Deutschland;X-APPLE-RADIUS=100;X-TITLE=Kulturhaus \"Alte Schla
 chterei\":geo:53.115125,9.791724
END:VEVENT
END:VCALENDAR