BEGIN:VCALENDAR
VERSION:2.0
PRODID:-//wp-events-plugin.com//7.2.3.1//EN
BEGIN:VEVENT
UID:7658@kulturverein-schneverdingen.de
DTSTART:20240809T173000Z
DTEND:20240809T200000Z
DTSTAMP:20240418T092432Z
URL:https://kulturverein-schneverdingen.de/events/4-schneverdinger-impro-a
 ir/
SUMMARY:4. Schneverdinger Impro-Air
DESCRIPTION:DreierLikör &amp\; Friends auf der Bühne am Turm\n\n&nbsp\;\n
 \nDas Impro-Air ist mittlerweile zu einem festen Bestandteil der kulturell
 en Freiluftsaison im Heidekreis geworden. Unter dem Titel „DreierLikör 
 &amp\; Friends“ haben die drei Schneverdinger Liköre Frauke Lohmann\, K
 arina Kraeft und Oliver Hofmann wieder wort- und spielgewaltige Gäste ein
 geladen\, um mit ihnen zusammen Geschichten und Abenteuer auf die Bühne z
 u zaubern\, die es vorher noch nicht gab. Und die es hinterher nie wieder 
 so geben wird.\n\nAlexandra Winterfeldt kommt den Weg aus der Bundeshaupts
 tadt in die Lüneburger Heide\, Finn Gauger repräsentiert das schöne Bar
 gteheide und Julia Gruber das hanseatisch kühle Hamburg. Chris Frerichs a
 us Bremen komplettiert das diesjährige Impro-Ensemble und sorgt mit seine
 r Musik für die atmosphärische Untermalung der Szenen.\n\n&nbsp\;\n\nImp
 rovisationstheater\, kurz Impro\, ist die Kunst aus nichts etwas zu machen
 \, im besten Fall etwas\, das auch Sinn macht. Ohne Drehbuch\, ohne Bühne
 nbild und ohne Ahnung\, was für Herausforderungen aus dem Publikum kommen
 \, werden die glorreichen Sieben auf der Bühne die Besucher*innen mit auf
  eine Reise nehmen. Zum Himalaya\, auf den Mond oder in das Bestattungsins
 titut an der Ecke? Das entscheidet allein das Publikum durch seine kreativ
 en Vorgaben am Anfang der Geschichten.\n\n&nbsp\;\n\nOb es lustig wird ode
 r tragisch\, alltäglich oder magisch? Das weiß nur der Geier und auch de
 r ist improvisiert. Lediglich eine Garantie kann man geben: Es wird ein ei
 nzigartiger Abend.\n\nEinlass: 18:30\n\nBeginn: 19:30\n\nTickets:\n\nVVK 1
 2 € | TK 15 €\n\nTickets sind erhältlich an unseren bekannten Vorverk
 aufsstellen sowie in unserem Online-Ticketshop 
ATTACH;FMTTYPE=image/jpeg:https://kulturverein-schneverdingen.de/wp-conten
 t/uploads/2024/04/Kopie-von-English-Conversation-39.png
CATEGORIES:Abends,Aktuell,Anlass/Voraussetzung,Begegnungen/zusammen
 sein,Comedy/Kabarett,Kommende Veranstaltungen,Konzert,Mit der Familie,Mit
 mehreren Leuten/wenn Besuch kommt,Open
 Air,Tageszeit,Theater,Veranstaltungsart
LOCATION:Bühne am Turm/Hofgelände Behrens\, Am Kirchhof\, Schneverdingen\
 , Niedersachsen\, 29640\, Deutschland
GEO:53.11212920000001;9.793131700000004
X-APPLE-STRUCTURED-LOCATION;VALUE=URI;X-ADDRESS=Am Kirchhof\, Schneverdinge
 n\, Niedersachsen\, 29640\, Deutschland;X-APPLE-RADIUS=100;X-TITLE=Bühne 
 am Turm/Hofgelände Behrens:geo:53.11212920000001,9.793131700000004
END:VEVENT
END:VCALENDAR