BEGIN:VCALENDAR
VERSION:2.0
PRODID:-//wp-events-plugin.com//7.2.3.1//EN
BEGIN:VEVENT
UID:8085@kulturverein-schneverdingen.de
DTSTART:20250306T163000Z
DTEND:20250306T183000Z
DTSTAMP:20241125T152620Z
URL:https://kulturverein-schneverdingen.de/events/3-fff-naturfilmfest-luen
 eburger-heide-plastic-fantastic/
SUMMARY:3. FFF-Naturfilmfest Lüneburger Heide: „Plastic fantastic“
DESCRIPTION:Plastik ist überall\, aber gewiss nicht phantastisch\, oder vi
 elleicht doch? Der ironische gewählte Titel „Plastic Fantastic“ deute
 t schon an\, dass Isa Willinger in ihre Doku nicht einfach nur die negativ
 en Aspekte des Materials darstellt\, sondern um einen differenzierten Blic
 k bemüht ist\, der auch Lobbyisten zu Wort kommen lässt\, deren Aussagen
  neben der von Umweltaktivisten stehen.\n\nDokumentarfilm\, Deutschland 20
 23\, Regie: Isa Willinger\, 102 Minuten\, o. A.\n\nDonnerstag\, 6. März\,
  19:00 Uhr\, Kino LichtSpiel\, Ticket 7\,50 Euro\, Tickets nur über das K
 ino LichtSpiel erhältlich
ATTACH;FMTTYPE=image/jpeg:https://kulturverein-schneverdingen.de/wp-conten
 t/uploads/2024/11/111-1.png
CATEGORIES:Abends,Aktuell,Anlass/Voraussetzung,Archiv,Barrierefrei,Begegnu
 ngen/zusammen sein,Bei Regenwetter,Kommende Veranstaltungen,Mit der
 Familie,Mit mehreren Leuten/wenn Besuch
 kommt,Sonstiges,Tageszeit,Veranstaltungsart
LOCATION:Kino LichtSpiel\, Oststraße 31\, Schneverdingen\, Deutschland
GEO:53.115125;9.791724
X-APPLE-STRUCTURED-LOCATION;VALUE=URI;X-ADDRESS=Oststraße 31\, Schneverdin
 gen\, Deutschland;X-APPLE-RADIUS=100;X-TITLE=Kino LichtSpiel:geo:53.115125
 ,9.791724
END:VEVENT
END:VCALENDAR