BEGIN:VCALENDAR
VERSION:2.0
PRODID:-//wp-events-plugin.com//7.2.3.1//EN
BEGIN:VEVENT
UID:6868@kulturverein-schneverdingen.de
DTSTART:20230423T170000Z
DTEND:20230423T190000Z
DTSTAMP:20230223T163344Z
URL:https://kulturverein-schneverdingen.de/events/2-fff-naturfilmfest-luen
 eburger-heide-vogelperspektiven/
SUMMARY:2. FFF-Naturfilmfest Lüneburger Heide: "Vogelperspektiven"
DESCRIPTION:Das Naturfilmfest im LichtSpiel Kino\nDokumentarfilm\, Deutschl
 and 2022\, Regie: Jörg Adolph\, 105 Min.\, FSK: 0\n\n\n[caption id="attac
 hment_19084" align="alignnone" width="300"] Ein Rotmilan im Flug[/caption]
 \n\nVögel faszinieren Menschen seit ewigen Zeiten\, und Norbert Schäffer
 \, Regisseur\, kennt sie so gut wie kaum ein Zweiter. Er ist ein besondere
 r Naturschützer: er steht mit Konzentration und Beharrlichkeit einem der 
 größten Naturschutzverbände Deutschlands\, dem LBV vor. Wir blicken mit
  einem Macher hinter die Kulissen der Umweltpolitik\, unternehmen Reisen z
 u beispielhaften Schutzprojekten\, begegnen Ornithologen auf der ganzen We
 lt und sehen das vielfältige Vogelleben in den faszinierenden Bildern des
  Naturfilms. Eine lebendige Vogelschau und zugleich das Porträt eines Nat
 urschützers in Zeiten großer Herausforderungen.\n\nKurzfilm: „When Ora
 nge is the Sky“\n[embedyt] https://www.youtube.com/watch?v=5rDRb3eq1tM[/
 embedyt]\n9 € ermäßigt 8 €\nTickets über www.lichtspiel-schneverdin
 gen.de
ATTACH;FMTTYPE=image/jpeg:https://kulturverein-schneverdingen.de/wp-conten
 t/uploads/2023/02/230423_Vogelperspektiven.jpg
CATEGORIES:Abends,Aktuell,Anlass/Voraussetzung,Archiv,Barrierefrei,Begegnu
 ngen/zusammen sein,Bei Regenwetter,Kommende Veranstaltungen,Mit der
 Familie,Mit mehreren Leuten/wenn Besuch
 kommt,Sonstiges,Tageszeit,Veranstaltungsart
LOCATION:Kino LichtSpiel\, Oststraße 31\, Schneverdingen\, Deutschland
GEO:53.115125;9.791724
X-APPLE-STRUCTURED-LOCATION;VALUE=URI;X-ADDRESS=Oststraße 31\, Schneverdin
 gen\, Deutschland;X-APPLE-RADIUS=100;X-TITLE=Kino LichtSpiel:geo:53.115125
 ,9.791724
END:VEVENT
END:VCALENDAR