BEGIN:VCALENDAR
VERSION:2.0
PRODID:-//wp-events-plugin.com//7.2.3.1//EN
BEGIN:VEVENT
UID:5930@kulturverein-schneverdingen.de
DTSTART:20201030T173000Z
DTEND:20201030T200000Z
DTSTAMP:20201027T073012Z
URL:https://kulturverein-schneverdingen.de/events/16-poetry-slam-abend/
SUMMARY:***ABGESAGT!*** 15. Poetry Slam-Abend
DESCRIPTION:15. Poetry Slam-Abend - ABGESAGT!\n\nwir haben uns aufgrund der
  unerfreulichen Entwicklungen rund und die Corona- Pandemie entschlossen\,
  den Poetry Slam am Freitag in der Eine-Welt-Kirche abzusagen. \n\nTeilt d
 iese Information bitte\, die Karten können zurückgegeben werden\, sie be
 halten aber auch ihre Gültigkeit für den nächsten Poetry Slam.\n\nWir w
 erden zu gegebener Zeit nach einem neuen Termin suchen.\n\nDie erfolgreich
 en Poetry Slam – Abende gehen ins 8. Jahr und finden zum 15. Mal in Schn
 everdingen statt\, dieses Mal in unserer wunderschönen Eine-Welt-Kirche.\
 n\nRegionale und überregionale TexterInnen und DichterInnen werden eigene
  Werke präsentieren und sich mit anderen Künstlern messen. Bei dem liter
 arischen Vortragswettbewerb mit bis zu 10 Teilnehmerinnen und Teilnehmer w
 erden selbst geschriebene Texte innerhalb von fünf Minuten dem Publikum v
 orgetragen. Dabei sind alle literarischen Formen und Genres – ob Lyrik\,
  Kurzprosa\, Rap oder Comedy-Beiträge – erlaubt. Eine Jury aus dem Publ
 ikum entscheidet am Ende darüber\, wer die „Poetry Slam-Wanderkrone“ 
 mit nach Hause nehmen darf.\n\nDass der Spaß im Vordergrund steht muss ei
 gentlich nicht extra erwähnt werden.\n\n\nJulia Kröger war im September 
 2019 dabei und hat den letzten Online-Poetry-Slam im Juni gewonnen.\n\nDa 
 der letzten Poetry Slam-Abend im März 2020 leider Corona bedingt ausfalle
 n musste\, gibt es dieses Mal keine Titelverteidigerin oder keinen Titelve
 rteidiger.\n\n\n\nWer an diesem Abend auf der Bühne stehen möchte\, kann
  sich unter 05193.2000 oder hartmut.fach@kulturverein-schneverdingen.de an
 melden.\nWir haben noch 1 freien Platz!\n\nBisher sind dabei:\n\nJuli Krö
 ger aus Großenwede\, Gewinnerin des letzten Online-Poetry-Slam\nMatti Lin
 ke aus Lüneburg\nThea Terjung aus Schneverdingen\nJenny Ly-Rieck aus Lül
 lau\nJosefine Born aus Bomlitz\nMarie Feld aus Saarbrücken\nStefan Strohm
  aus Sodersdorf\nTina Wolff aus Scheessel\nMarkus Zielinski aus Hannover\n
 \nDie Veranstaltung findet dieses Mal in der Eine-Welt-Kirche in der Ernst
  Dax-Straße statt.\n\nAufgrund der notwendigen Abstandsregeln durch die C
 orona-Pandemie ist es ratsam\, Karten im Vorverkauf online oder zu den Öf
 fnungszeiten in der KulturStellmacherei zu kaufen. Es werden keine Karten 
 extra für die Abendkasse zurückbehalten.\n\nAnmeldungen für Slammer*inn
 en sind ab sofort unter 05193.2000 oder hartmut.fach@kulturverein-schnever
 dingen.de möglich.\n\nFür eine unterhaltsame Moderation sorgt wie immer 
 Oliver Hofmann\, die musikalische Begleitung übernimmt diesen Abend Jan L
 ohmann von der Schneverdinger Band Goodwill Intent.\nEintritt    VVK  6
  €   AK  8 € - Ausverkauft!\n\nEine Veranstaltung gemeinsam mit der
  Markusgemeinde der Eine-Welt-Kirche in Schneverdingen.\n\n&nbsp\;
ATTACH;FMTTYPE=image/jpeg:https://kulturverein-schneverdingen.de/wp-conten
 t/uploads/2019/11/Leah-Bolduan-scaled.jpg
CATEGORIES:Aktuell,Archiv
LOCATION:Eine-Welt-Kirche\, Ernst-Dax-Str. 8\, Schneverdingen\, 29640\, Deu
 tschland
GEO:53.110135;9.809326
X-APPLE-STRUCTURED-LOCATION;VALUE=URI;X-ADDRESS=Ernst-Dax-Str. 8\, Schnever
 dingen\, 29640\, Deutschland;X-APPLE-RADIUS=100;X-TITLE=Eine-Welt-Kirche:g
 eo:53.110135,9.809326
END:VEVENT
END:VCALENDAR