BEGIN:VCALENDAR
VERSION:2.0
PRODID:-//wp-events-plugin.com//7.2.3.1//EN
BEGIN:VEVENT
UID:7089@kulturverein-schneverdingen.de
DTSTART:20231012T160000Z
DTEND:20231012T213000Z
DTSTAMP:20230706T073447Z
URL:https://kulturverein-schneverdingen.de/events/1-kultabotour-die-vergnu
 egliche-reiner-kroehnerts-er/
SUMMARY:1. KultABOTour - "Die Vergnügliche": "Reiner KRÖHNERTs ER"
DESCRIPTION:Es handelt sich um eine unserer Fahrten aus der Aboreihe. Die f
 ünf Veranstaltungen können nur im Paket gebucht werden.\nAlma Hoppes Lus
 tspielhaus\n"Reiner KRÖHNERTs ER"\nVorhang auf\, für Reiner Kröhnerts p
 ikant-brisantes Prominenten-Panoptikum! ER weiß "Lachen ist der Hoffnung 
 letzte Waffe". Viel Vergnügen!\nIn seinem nunmehr 14. Programm lässt er 
 es derart gruselig krachen\, denn es geht hier um den 1\,98 Meter großen 
 Teutonen Friedrich Merz. Er lauert auf jede sich bietende Machtlücke und 
 so hängt das Damoklesschwert einer drohenden Merz-Revolution über der Wa
 ckel-Ampel. Kein anderer als der Altmeister des politischen Parodiekabaret
 ts Reiner Kröhnert\, ebenfalls 1\,98 Meter\, verkörpert Friedrich Merz s
 o authentisch in Größe\, Mimik und Sprache\, dass man fast schon vom "do
 ppelten Friederich" sprechen könnte.\nEgal\, ob Reiner Kröhnert (2022 Kl
 einkunstpreis Baden-Württemberg/Ehrenpreis) Trump parodiert\, Robert Habe
 ck\, Boris Becker oder Klaus Kinski u.v.a. – immer erzeugt er beim Zusch
 auer das Gefühl\, die parodierten Personen auf eine neue\, teils verstör
 end-heitere Weise kennenzulernen. Die Tatsache\, dass er trotz beißender 
 Kritik nie die Grenze des Diffamierenden überschreitet\, macht Kröhnert 
 zu einem Kabarettisten und Parodisten\, den man ernst nehmen muss - währe
 nd gleichzeitig das Lachen dort steckt\, wo es hingehört: im Hals.\nDo\, 
 12.10.2023\, 20.00 Uhr\nAbfahrt mit Kleinschmidt´s Busreisen am Schneverd
 inger Rathaus um 18 Uhr.
ATTACH;FMTTYPE=image/jpeg:https://kulturverein-schneverdingen.de/wp-conten
 t/uploads/2019/02/Kulturverein-Logo_klein.jpg
CATEGORIES:Abends,Aktuell,Anlass/Voraussetzung,Archiv,Begegnungen/zusammen
 sein,Bei Regenwetter,Kommende Veranstaltungen,Mit der
 Familie,Tageszeit,Theater,Veranstaltungsart
LOCATION:Rathaus Schneverdingen\, Schulstraße 3\, Schneverdingen\, 29640\,
  Deutschland
GEO:53.11981;9.786960000000022
X-APPLE-STRUCTURED-LOCATION;VALUE=URI;X-ADDRESS=Schulstraße 3\, Schneverdi
 ngen\, 29640\, Deutschland;X-APPLE-RADIUS=100;X-TITLE=Rathaus Schneverding
 en:geo:53.11981,9.786960000000022
END:VEVENT
END:VCALENDAR